BEGIN:VCALENDAR
VERSION:2.0
PRODID:-//Network Center - ECPv6.15.20//NONSGML v1.0//EN
CALSCALE:GREGORIAN
METHOD:PUBLISH
X-ORIGINAL-URL:https://www.netcenter.net
X-WR-CALDESC:Events for Network Center
REFRESH-INTERVAL;VALUE=DURATION:PT1H
X-Robots-Tag:noindex
X-PUBLISHED-TTL:PT1H
BEGIN:VTIMEZONE
TZID:America/North_Dakota/Center
BEGIN:DAYLIGHT
TZOFFSETFROM:-0600
TZOFFSETTO:-0500
TZNAME:CDT
DTSTART:20230312T080000
END:DAYLIGHT
BEGIN:STANDARD
TZOFFSETFROM:-0500
TZOFFSETTO:-0600
TZNAME:CST
DTSTART:20231105T070000
END:STANDARD
BEGIN:DAYLIGHT
TZOFFSETFROM:-0600
TZOFFSETTO:-0500
TZNAME:CDT
DTSTART:20240310T080000
END:DAYLIGHT
BEGIN:STANDARD
TZOFFSETFROM:-0500
TZOFFSETTO:-0600
TZNAME:CST
DTSTART:20241103T070000
END:STANDARD
BEGIN:DAYLIGHT
TZOFFSETFROM:-0600
TZOFFSETTO:-0500
TZNAME:CDT
DTSTART:20250309T080000
END:DAYLIGHT
BEGIN:STANDARD
TZOFFSETFROM:-0500
TZOFFSETTO:-0600
TZNAME:CST
DTSTART:20251102T070000
END:STANDARD
BEGIN:DAYLIGHT
TZOFFSETFROM:-0600
TZOFFSETTO:-0500
TZNAME:CDT
DTSTART:20260308T080000
END:DAYLIGHT
BEGIN:STANDARD
TZOFFSETFROM:-0500
TZOFFSETTO:-0600
TZNAME:CST
DTSTART:20261101T070000
END:STANDARD
END:VTIMEZONE
BEGIN:VEVENT
DTSTART;TZID=America/North_Dakota/Center:20251202T110000
DTEND;TZID=America/North_Dakota/Center:20251202T113000
DTSTAMP:20260420T220113
CREATED:20251106T194411Z
LAST-MODIFIED:20251110T180733Z
UID:10000027-1764673200-1764675000@www.netcenter.net
SUMMARY:Beyond the Camera: How Verkada Connects Your Entire Security Ecosystem
DESCRIPTION:Beyond the Camera: How Verkada Connects Your Entire Security Ecosystem				\n				\n					\n				\n		\n					\n		\n				\n				\n									Tuesday\, December 2nd11:00 am – 11:30 am 								\n				\n				\n				\n							\n\n						\n				\n								\n			\n			\n						\n\n									\n						\n							FREE to Attend						\n					\n				\n				\n			\n			\n		\n						\n				\n				\n				\n							\n\n						\n				\n								\n			\n			\n						\n\n									\n						\n							Virtual Event						\n					\n				\n				\n			\n			\n		\n						\n				\n				\n		\n		\n				\n				\n									Join us for an inside look at how Verkada’s unified\, cloud-based platform brings together video security\, access control\, environmental sensors\, alarms\, intercoms\, and workplace solutions — all in a single\, easy-to-use interface. In this session\, you’ll see how organizations are simplifying management\, strengthening security\, and gaining powerful insights across their sites. Whether you’re new to Verkada or exploring ways to modernize your security infrastructure\, you’ll walk away with a clear understanding of how Verkada helps you protect people and property while driving operational efficiency. 								\n				\n				\n				\n									\n					\n						\n									SAVE YOUR SEAT
URL:https://www.netcenter.net/event/beyond-the-camera-how-verkada-connects-your-entire-security-ecosystem/
CATEGORIES:Virtual Event
END:VEVENT
BEGIN:VEVENT
DTSTART;TZID=America/North_Dakota/Center:20250924T110000
DTEND;TZID=America/North_Dakota/Center:20250924T120000
DTSTAMP:20260420T220115
CREATED:20250827T195315Z
LAST-MODIFIED:20250828T163520Z
UID:10000023-1758711600-1758715200@www.netcenter.net
SUMMARY:Summer Shift: Power Up with Microsoft 365 Tools
DESCRIPTION:Beyond the Camera: How Verkada Connects Your Entire Security Ecosystem				\n				\n					\n				\n		\n					\n		\n				\n				\n									Tuesday\, December 2nd11:00 am – 11:30 am 								\n				\n				\n				\n							\n\n						\n				\n								\n			\n			\n						\n\n									\n						\n							FREE to Attend						\n					\n				\n				\n			\n			\n		\n						\n				\n				\n				\n							\n\n						\n				\n								\n			\n			\n						\n\n									\n						\n							Virtual Event						\n					\n				\n				\n			\n			\n		\n						\n				\n				\n		\n		\n				\n				\n									Join us for an inside look at how Verkada’s unified\, cloud-based platform brings together video security\, access control\, environmental sensors\, alarms\, intercoms\, and workplace solutions — all in a single\, easy-to-use interface. In this session\, you’ll see how organizations are simplifying management\, strengthening security\, and gaining powerful insights across their sites. Whether you’re new to Verkada or exploring ways to modernize your security infrastructure\, you’ll walk away with a clear understanding of how Verkada helps you protect people and property while driving operational efficiency. 								\n				\n				\n				\n									\n					\n						\n									SAVE YOUR SEAT
URL:https://www.netcenter.net/event/summer-shift-power-up-with-microsoft-365-tools/
CATEGORIES:Virtual Event
END:VEVENT
BEGIN:VEVENT
DTSTART;TZID=America/North_Dakota/Center:20240912T100000
DTEND;TZID=America/North_Dakota/Center:20240912T110000
DTSTAMP:20260420T220115
CREATED:20240620T194544Z
LAST-MODIFIED:20240906T140935Z
UID:10000019-1726135200-1726138800@www.netcenter.net
SUMMARY:Covering Security Bases for Your SMB
DESCRIPTION:Beyond the Camera: How Verkada Connects Your Entire Security Ecosystem				\n				\n					\n				\n		\n					\n		\n				\n				\n									Tuesday\, December 2nd11:00 am – 11:30 am 								\n				\n				\n				\n							\n\n						\n				\n								\n			\n			\n						\n\n									\n						\n							FREE to Attend						\n					\n				\n				\n			\n			\n		\n						\n				\n				\n				\n							\n\n						\n				\n								\n			\n			\n						\n\n									\n						\n							Virtual Event						\n					\n				\n				\n			\n			\n		\n						\n				\n				\n		\n		\n				\n				\n									Join us for an inside look at how Verkada’s unified\, cloud-based platform brings together video security\, access control\, environmental sensors\, alarms\, intercoms\, and workplace solutions — all in a single\, easy-to-use interface. In this session\, you’ll see how organizations are simplifying management\, strengthening security\, and gaining powerful insights across their sites. Whether you’re new to Verkada or exploring ways to modernize your security infrastructure\, you’ll walk away with a clear understanding of how Verkada helps you protect people and property while driving operational efficiency. 								\n				\n				\n				\n									\n					\n						\n									SAVE YOUR SEAT
URL:https://www.netcenter.net/event/covering-security-bases-for-smb/
CATEGORIES:Virtual Event
END:VEVENT
END:VCALENDAR